BEGIN:VCALENDAR
VERSION:2.0
PRODID:-//NADI Sg Korok, Padang Kerbau - ECPv6.15.13.1//NONSGML v1.0//EN
CALSCALE:GREGORIAN
METHOD:PUBLISH
X-WR-CALNAME:NADI Sg Korok, Padang Kerbau
X-ORIGINAL-URL:https://sgkorok.nadi.my
X-WR-CALDESC:Events for NADI Sg Korok, Padang Kerbau
REFRESH-INTERVAL;VALUE=DURATION:PT1H
X-Robots-Tag:noindex
X-PUBLISHED-TTL:PT1H
BEGIN:VTIMEZONE
TZID:Asia/Kuala_Lumpur
BEGIN:STANDARD
TZOFFSETFROM:+0800
TZOFFSETTO:+0800
TZNAME:+08
DTSTART:20240101T000000
END:STANDARD
END:VTIMEZONE
BEGIN:VEVENT
DTSTART;TZID=Asia/Kuala_Lumpur:20250801T090000
DTEND;TZID=Asia/Kuala_Lumpur:20250831T170000
DTSTAMP:20260426T100901
CREATED:20250802T030149Z
LAST-MODIFIED:20250802T030149Z
UID:5485-1754038800-1756659600@sgkorok.nadi.my
SUMMARY:WELLBEING
DESCRIPTION:
URL:https://sgkorok.nadi.my/event/wellbeing/
END:VEVENT
BEGIN:VEVENT
DTSTART;TZID=Asia/Kuala_Lumpur:20250819T093000
DTEND;TZID=Asia/Kuala_Lumpur:20250819T110000
DTSTAMP:20260426T100901
CREATED:20250817T080354Z
LAST-MODIFIED:20250817T080354Z
UID:5607-1755595800-1755601200@sgkorok.nadi.my
SUMMARY:NADI MAHIR MASAK SIRI 2: MINGGU 4
DESCRIPTION:
URL:https://sgkorok.nadi.my/event/nadi-mahir-masak-siri-2-minggu-4/
END:VEVENT
BEGIN:VEVENT
DTSTART;TZID=Asia/Kuala_Lumpur:20250819T150000
DTEND;TZID=Asia/Kuala_Lumpur:20250819T163000
DTSTAMP:20260426T100901
CREATED:20250817T080457Z
LAST-MODIFIED:20250817T080457Z
UID:5609-1755615600-1755621000@sgkorok.nadi.my
SUMMARY:NADI MAHIR JAHIT SIRI 2: MINGGU 4
DESCRIPTION:
URL:https://sgkorok.nadi.my/event/nadi-mahir-jahit-siri-2-minggu-4/
END:VEVENT
BEGIN:VEVENT
DTSTART;TZID=Asia/Kuala_Lumpur:20250819T153000
DTEND;TZID=Asia/Kuala_Lumpur:20250819T163000
DTSTAMP:20260426T100901
CREATED:20250817T080531Z
LAST-MODIFIED:20250817T080704Z
UID:5611-1755617400-1755621000@sgkorok.nadi.my
SUMMARY:OPEN TUITION : BAHASA INGGERIS (TING (3/4/5)
DESCRIPTION:
URL:https://sgkorok.nadi.my/event/open-tuition-bahasa-inggeris-ting-3-4-5/
END:VEVENT
END:VCALENDAR