BEGIN:VCALENDAR
VERSION:2.0
PRODID:-//NADI Sg Korok, Padang Kerbau - ECPv6.15.13.1//NONSGML v1.0//EN
CALSCALE:GREGORIAN
METHOD:PUBLISH
X-WR-CALNAME:NADI Sg Korok, Padang Kerbau
X-ORIGINAL-URL:https://sgkorok.nadi.my
X-WR-CALDESC:Events for NADI Sg Korok, Padang Kerbau
REFRESH-INTERVAL;VALUE=DURATION:PT1H
X-Robots-Tag:noindex
X-PUBLISHED-TTL:PT1H
BEGIN:VTIMEZONE
TZID:Asia/Kuala_Lumpur
BEGIN:STANDARD
TZOFFSETFROM:+0800
TZOFFSETTO:+0800
TZNAME:+08
DTSTART:20240101T000000
END:STANDARD
END:VTIMEZONE
BEGIN:VEVENT
DTSTART;TZID=Asia/Kuala_Lumpur:20251001T093000
DTEND;TZID=Asia/Kuala_Lumpur:20251001T233000
DTSTAMP:20260423T152431
CREATED:20251002T033340Z
LAST-MODIFIED:20251002T033340Z
UID:5874-1759311000-1759361400@sgkorok.nadi.my
SUMMARY:MAHIR MASAK
DESCRIPTION:
URL:https://sgkorok.nadi.my/event/mahir-masak/
END:VEVENT
BEGIN:VEVENT
DTSTART;TZID=Asia/Kuala_Lumpur:20251001T100000
DTEND;TZID=Asia/Kuala_Lumpur:20251001T103000
DTSTAMP:20260423T152431
CREATED:20251002T033431Z
LAST-MODIFIED:20251002T033431Z
UID:5876-1759312800-1759314600@sgkorok.nadi.my
SUMMARY:NADI CARE KEKAL KUAT & STABIL! | S064
DESCRIPTION:KEKAL KUAT & STABIL! | S064
URL:https://sgkorok.nadi.my/event/nadi-care-kekal-kuat-stabil-s064/
END:VEVENT
END:VCALENDAR