BEGIN:VCALENDAR
VERSION:2.0
PRODID:-//NADI Sg Korok, Padang Kerbau - ECPv6.15.13.1//NONSGML v1.0//EN
CALSCALE:GREGORIAN
METHOD:PUBLISH
X-WR-CALNAME:NADI Sg Korok, Padang Kerbau
X-ORIGINAL-URL:https://sgkorok.nadi.my
X-WR-CALDESC:Events for NADI Sg Korok, Padang Kerbau
REFRESH-INTERVAL;VALUE=DURATION:PT1H
X-Robots-Tag:noindex
X-PUBLISHED-TTL:PT1H
BEGIN:VTIMEZONE
TZID:Asia/Kuala_Lumpur
BEGIN:STANDARD
TZOFFSETFROM:+0800
TZOFFSETTO:+0800
TZNAME:+08
DTSTART:20240101T000000
END:STANDARD
END:VTIMEZONE
BEGIN:VEVENT
DTSTART;TZID=Asia/Kuala_Lumpur:20251011T100000
DTEND;TZID=Asia/Kuala_Lumpur:20251011T110000
DTSTAMP:20260422T141441
CREATED:20251003T040740Z
LAST-MODIFIED:20251003T040740Z
UID:5919-1760176800-1760180400@sgkorok.nadi.my
SUMMARY:EBINAR PLAN PERNIAGAAN PINTAR SAYA
DESCRIPTION:
URL:https://sgkorok.nadi.my/event/ebinar-plan-perniagaan-pintar-saya/
END:VEVENT
BEGIN:VEVENT
DTSTART;TZID=Asia/Kuala_Lumpur:20251011T100000
DTEND;TZID=Asia/Kuala_Lumpur:20251011T110000
DTSTAMP:20260422T141441
CREATED:20251003T040815Z
LAST-MODIFIED:20251003T040815Z
UID:5921-1760176800-1760180400@sgkorok.nadi.my
SUMMARY:BENGKEL SUMO ROBOT SESI 2 (SEK RENDAH)
DESCRIPTION:
URL:https://sgkorok.nadi.my/event/bengkel-sumo-robot-sesi-2-sek-rendah/
END:VEVENT
BEGIN:VEVENT
DTSTART;TZID=Asia/Kuala_Lumpur:20251011T113000
DTEND;TZID=Asia/Kuala_Lumpur:20251011T120000
DTSTAMP:20260422T141441
CREATED:20251003T040845Z
LAST-MODIFIED:20251003T040845Z
UID:5923-1760182200-1760184000@sgkorok.nadi.my
SUMMARY:BENGKEL IOT INOVASI SESI 2 (SEK MENENGAH)
DESCRIPTION:
URL:https://sgkorok.nadi.my/event/bengkel-iot-inovasi-sesi-2-sek-menengah/
END:VEVENT
END:VCALENDAR