BEGIN:VCALENDAR
VERSION:2.0
PRODID:-//NADI Sg Korok, Padang Kerbau - ECPv6.15.13.1//NONSGML v1.0//EN
CALSCALE:GREGORIAN
METHOD:PUBLISH
X-WR-CALNAME:NADI Sg Korok, Padang Kerbau
X-ORIGINAL-URL:https://sgkorok.nadi.my
X-WR-CALDESC:Events for NADI Sg Korok, Padang Kerbau
REFRESH-INTERVAL;VALUE=DURATION:PT1H
X-Robots-Tag:noindex
X-PUBLISHED-TTL:PT1H
BEGIN:VTIMEZONE
TZID:Asia/Kuala_Lumpur
BEGIN:STANDARD
TZOFFSETFROM:+0800
TZOFFSETTO:+0800
TZNAME:+08
DTSTART:20240101T000000
END:STANDARD
END:VTIMEZONE
BEGIN:VEVENT
DTSTART;TZID=Asia/Kuala_Lumpur:20251024T150000
DTEND;TZID=Asia/Kuala_Lumpur:20251024T163000
DTSTAMP:20260425T061222
CREATED:20251003T042648Z
LAST-MODIFIED:20251003T042648Z
UID:5969-1761318000-1761323400@sgkorok.nadi.my
SUMMARY:[WEBINAR NADI x CYBERSECURITY]  ANCAMAN SIBER DI TEMPAT AWAM LIVE DEMO CARD CLONNING & TRACKER GADGET SLOT 2
DESCRIPTION:
URL:https://sgkorok.nadi.my/event/webinar-nadi-x-cybersecurity-ancaman-siber-di-tempat-awam-live-demo-card-clonning-tracker-gadget-slot-2/
END:VEVENT
BEGIN:VEVENT
DTSTART;TZID=Asia/Kuala_Lumpur:20251024T153000
DTEND;TZID=Asia/Kuala_Lumpur:20251024T163000
DTSTAMP:20260425T061222
CREATED:20251003T042709Z
LAST-MODIFIED:20251003T042709Z
UID:5971-1761319800-1761323400@sgkorok.nadi.my
SUMMARY:MAHIR BAIKI GAJET
DESCRIPTION:
URL:https://sgkorok.nadi.my/event/mahir-baiki-gajet-4/
END:VEVENT
END:VCALENDAR