BEGIN:VCALENDAR
VERSION:2.0
PRODID:-//NADI Sg Korok, Padang Kerbau - ECPv6.15.13.1//NONSGML v1.0//EN
CALSCALE:GREGORIAN
METHOD:PUBLISH
X-WR-CALNAME:NADI Sg Korok, Padang Kerbau
X-ORIGINAL-URL:https://sgkorok.nadi.my
X-WR-CALDESC:Events for NADI Sg Korok, Padang Kerbau
REFRESH-INTERVAL;VALUE=DURATION:PT1H
X-Robots-Tag:noindex
X-PUBLISHED-TTL:PT1H
BEGIN:VTIMEZONE
TZID:Asia/Kuala_Lumpur
BEGIN:STANDARD
TZOFFSETFROM:+0800
TZOFFSETTO:+0800
TZNAME:+08
DTSTART:20240101T000000
END:STANDARD
END:VTIMEZONE
BEGIN:VEVENT
DTSTART;TZID=Asia/Kuala_Lumpur:20251101T080000
DTEND;TZID=Asia/Kuala_Lumpur:20251101T170000
DTSTAMP:20260424T101756
CREATED:20251101T073106Z
LAST-MODIFIED:20251101T073106Z
UID:6140-1761984000-1762016400@sgkorok.nadi.my
SUMMARY:REVISION VIDEO SESI 14 KINI DIBUKA
DESCRIPTION:
URL:https://sgkorok.nadi.my/event/revision-video-sesi-14-kini-dibuka/
END:VEVENT
BEGIN:VEVENT
DTSTART;TZID=Asia/Kuala_Lumpur:20251101T080000
DTEND;TZID=Asia/Kuala_Lumpur:20251101T170000
DTSTAMP:20260424T101756
CREATED:20251101T073328Z
LAST-MODIFIED:20251101T073328Z
UID:6144-1761984000-1762016400@sgkorok.nadi.my
SUMMARY:KIDVENTURE – EDISI EKSPRES
DESCRIPTION:
URL:https://sgkorok.nadi.my/event/kidventure-edisi-ekspres/
END:VEVENT
BEGIN:VEVENT
DTSTART;TZID=Asia/Kuala_Lumpur:20251101T100000
DTEND;TZID=Asia/Kuala_Lumpur:20251101T170000
DTSTAMP:20260424T101756
CREATED:20251101T073209Z
LAST-MODIFIED:20251101T073209Z
UID:6142-1761991200-1762016400@sgkorok.nadi.my
SUMMARY:MLBB SEASON 3 PERINGKAT NEGERI KEDAH
DESCRIPTION:
URL:https://sgkorok.nadi.my/event/mlbb-season-3-peringkat-negeri-kedah/
END:VEVENT
END:VCALENDAR