BEGIN:VCALENDAR
VERSION:2.0
PRODID:-//NADI Sg Korok, Padang Kerbau - ECPv6.15.13.1//NONSGML v1.0//EN
CALSCALE:GREGORIAN
METHOD:PUBLISH
X-WR-CALNAME:NADI Sg Korok, Padang Kerbau
X-ORIGINAL-URL:https://sgkorok.nadi.my
X-WR-CALDESC:Events for NADI Sg Korok, Padang Kerbau
REFRESH-INTERVAL;VALUE=DURATION:PT1H
X-Robots-Tag:noindex
X-PUBLISHED-TTL:PT1H
BEGIN:VTIMEZONE
TZID:Asia/Kuala_Lumpur
BEGIN:STANDARD
TZOFFSETFROM:+0800
TZOFFSETTO:+0800
TZNAME:+08
DTSTART:20240101T000000
END:STANDARD
END:VTIMEZONE
BEGIN:VEVENT
DTSTART;TZID=Asia/Kuala_Lumpur:20251106T033000
DTEND;TZID=Asia/Kuala_Lumpur:20251106T163000
DTSTAMP:20260425T081458
CREATED:20251101T073728Z
LAST-MODIFIED:20251101T073728Z
UID:6156-1762399800-1762446600@sgkorok.nadi.my
SUMMARY:OPEN TUITION BM
DESCRIPTION:
URL:https://sgkorok.nadi.my/event/open-tuition-bm-2/
END:VEVENT
BEGIN:VEVENT
DTSTART;TZID=Asia/Kuala_Lumpur:20251106T033000
DTEND;TZID=Asia/Kuala_Lumpur:20251106T163000
DTSTAMP:20260425T081458
CREATED:20251101T094001Z
LAST-MODIFIED:20251101T094001Z
UID:6170-1762399800-1762446600@sgkorok.nadi.my
SUMMARY:OPEN TUITION BM
DESCRIPTION:
URL:https://sgkorok.nadi.my/event/open-tuition-bm-3/
END:VEVENT
BEGIN:VEVENT
DTSTART;TZID=Asia/Kuala_Lumpur:20251106T100000
DTEND;TZID=Asia/Kuala_Lumpur:20251106T110000
DTSTAMP:20260425T081458
CREATED:20251101T073804Z
LAST-MODIFIED:20251101T073804Z
UID:6158-1762423200-1762426800@sgkorok.nadi.my
SUMMARY:WEBINAR PEMASARAN DIGITAL eKELAS USAHAWAN AI UNTUK MENCIPTA KANDUNGAN
DESCRIPTION:
URL:https://sgkorok.nadi.my/event/webinar-pemasaran-digital-ekelas-usahawan-ai-untuk-mencipta-kandungan-2/
END:VEVENT
BEGIN:VEVENT
DTSTART;TZID=Asia/Kuala_Lumpur:20251106T100000
DTEND;TZID=Asia/Kuala_Lumpur:20251106T230000
DTSTAMP:20260425T081458
CREATED:20251101T094209Z
LAST-MODIFIED:20251101T094209Z
UID:6172-1762423200-1762470000@sgkorok.nadi.my
SUMMARY:WEBINAR PEMASARAN DIGITAL eKELAS USAHAWAN AI UNTUK MENCIPTA KANDUNGAN
DESCRIPTION:
URL:https://sgkorok.nadi.my/event/webinar-pemasaran-digital-ekelas-usahawan-ai-untuk-mencipta-kandungan-3/
END:VEVENT
BEGIN:VEVENT
DTSTART;TZID=Asia/Kuala_Lumpur:20251106T140000
DTEND;TZID=Asia/Kuala_Lumpur:20251106T150000
DTSTAMP:20260425T081458
CREATED:20251101T073853Z
LAST-MODIFIED:20251101T073853Z
UID:6160-1762437600-1762441200@sgkorok.nadi.my
SUMMARY:WEBINAR PEMASARAN DIGITAL eKELAS USAHAWAN MENGURUS DAN MENGUKUR KEBERKESANAN PEMASARAN DIGITAL
DESCRIPTION:
URL:https://sgkorok.nadi.my/event/webinar-pemasaran-digital-ekelas-usahawan-mengurus-dan-mengukur-keberkesanan-pemasaran-digital-2/
END:VEVENT
BEGIN:VEVENT
DTSTART;TZID=Asia/Kuala_Lumpur:20251106T140000
DTEND;TZID=Asia/Kuala_Lumpur:20251106T150000
DTSTAMP:20260425T081458
CREATED:20251101T094302Z
LAST-MODIFIED:20251101T094302Z
UID:6174-1762437600-1762441200@sgkorok.nadi.my
SUMMARY:WEBINAR PEMASARAN DIGITAL eKELAS USAHAWAN MENGURUS DAN MENGUKUR KEBERKESANAN PEMASARAN DIGITAL
DESCRIPTION:
URL:https://sgkorok.nadi.my/event/webinar-pemasaran-digital-ekelas-usahawan-mengurus-dan-mengukur-keberkesanan-pemasaran-digital-3/
END:VEVENT
END:VCALENDAR