BEGIN:VCALENDAR
VERSION:2.0
PRODID:-//NADI Sg Korok, Padang Kerbau - ECPv6.15.13.1//NONSGML v1.0//EN
CALSCALE:GREGORIAN
METHOD:PUBLISH
X-ORIGINAL-URL:https://sgkorok.nadi.my
X-WR-CALDESC:Events for NADI Sg Korok, Padang Kerbau
REFRESH-INTERVAL;VALUE=DURATION:PT1H
X-Robots-Tag:noindex
X-PUBLISHED-TTL:PT1H
BEGIN:VTIMEZONE
TZID:Asia/Kuala_Lumpur
BEGIN:STANDARD
TZOFFSETFROM:+0800
TZOFFSETTO:+0800
TZNAME:+08
DTSTART:20240101T000000
END:STANDARD
END:VTIMEZONE
BEGIN:VEVENT
DTSTART;TZID=Asia/Kuala_Lumpur:20251202T093000
DTEND;TZID=Asia/Kuala_Lumpur:20251202T110000
DTSTAMP:20260420T092129
CREATED:20251202T033444Z
LAST-MODIFIED:20251202T033444Z
UID:6329-1764667800-1764673200@sgkorok.nadi.my
SUMMARY:MAHIR MASAK (RECAP CLASS)
DESCRIPTION:
URL:https://sgkorok.nadi.my/event/mahir-masak-recap-class/
END:VEVENT
BEGIN:VEVENT
DTSTART;TZID=Asia/Kuala_Lumpur:20251202T153000
DTEND;TZID=Asia/Kuala_Lumpur:20251202T163000
DTSTAMP:20260420T092129
CREATED:20251202T033323Z
LAST-MODIFIED:20251202T033323Z
UID:6325-1764689400-1764693000@sgkorok.nadi.my
SUMMARY:OPEN TUITION BAHASA INGGERIS
DESCRIPTION:
URL:https://sgkorok.nadi.my/event/open-tuition-bahasa-inggeris/
END:VEVENT
BEGIN:VEVENT
DTSTART;TZID=Asia/Kuala_Lumpur:20251202T153000
DTEND;TZID=Asia/Kuala_Lumpur:20251202T163000
DTSTAMP:20260420T092129
CREATED:20251202T033403Z
LAST-MODIFIED:20251202T033403Z
UID:6327-1764689400-1764693000@sgkorok.nadi.my
SUMMARY:GUIDANCE TUITION TINGKATAN 4 SEJARAH
DESCRIPTION:GUIDANCE TUITION TINGKATAN 4 SEJARAH
URL:https://sgkorok.nadi.my/event/guidance-tuition-tingkatan-4-sejarah/
END:VEVENT
END:VCALENDAR