BEGIN:VCALENDAR
VERSION:2.0
PRODID:-//NADI Sg Korok, Padang Kerbau - ECPv6.15.13.1//NONSGML v1.0//EN
CALSCALE:GREGORIAN
METHOD:PUBLISH
X-WR-CALNAME:NADI Sg Korok, Padang Kerbau
X-ORIGINAL-URL:https://sgkorok.nadi.my
X-WR-CALDESC:Events for NADI Sg Korok, Padang Kerbau
REFRESH-INTERVAL;VALUE=DURATION:PT1H
X-Robots-Tag:noindex
X-PUBLISHED-TTL:PT1H
BEGIN:VTIMEZONE
TZID:Asia/Kuala_Lumpur
BEGIN:STANDARD
TZOFFSETFROM:+0800
TZOFFSETTO:+0800
TZNAME:+08
DTSTART:20240101T000000
END:STANDARD
END:VTIMEZONE
BEGIN:VEVENT
DTSTART;TZID=Asia/Kuala_Lumpur:20251204T093000
DTEND;TZID=Asia/Kuala_Lumpur:20251204T110000
DTSTAMP:20260421T225839
CREATED:20251202T033827Z
LAST-MODIFIED:20251202T033827Z
UID:6339-1764840600-1764846000@sgkorok.nadi.my
SUMMARY:MAHIR GAJET (RECAP CLASS)
DESCRIPTION:
URL:https://sgkorok.nadi.my/event/mahir-gajet-recap-class/
END:VEVENT
BEGIN:VEVENT
DTSTART;TZID=Asia/Kuala_Lumpur:20251204T153000
DTEND;TZID=Asia/Kuala_Lumpur:20251204T163000
DTSTAMP:20260421T225839
CREATED:20251202T033553Z
LAST-MODIFIED:20251202T033553Z
UID:6333-1764862200-1764865800@sgkorok.nadi.my
SUMMARY:RISIKO KAMERA TERSEMBUNYI\, APA YANG PERLU ANDA TAHU. SLOT 1
DESCRIPTION:
URL:https://sgkorok.nadi.my/event/risiko-kamera-tersembunyi-apa-yang-perlu-anda-tahu-slot-1/
END:VEVENT
BEGIN:VEVENT
DTSTART;TZID=Asia/Kuala_Lumpur:20251204T153000
DTEND;TZID=Asia/Kuala_Lumpur:20251204T163000
DTSTAMP:20260421T225839
CREATED:20251202T033625Z
LAST-MODIFIED:20251202T033625Z
UID:6335-1764862200-1764865800@sgkorok.nadi.my
SUMMARY:OPEN TUITION BAHASA MELAYU
DESCRIPTION:
URL:https://sgkorok.nadi.my/event/open-tuition-bahasa-melayu/
END:VEVENT
BEGIN:VEVENT
DTSTART;TZID=Asia/Kuala_Lumpur:20251204T153000
DTEND;TZID=Asia/Kuala_Lumpur:20251204T163000
DTSTAMP:20260421T225839
CREATED:20251202T033725Z
LAST-MODIFIED:20251202T033725Z
UID:6337-1764862200-1764865800@sgkorok.nadi.my
SUMMARY:GUIDANCE TUITION TINGKATAN 4 BAHASA INGGERIS
DESCRIPTION:
URL:https://sgkorok.nadi.my/event/guidance-tuition-tingkatan-4-bahasa-inggeris/
END:VEVENT
END:VCALENDAR