BEGIN:VCALENDAR
VERSION:2.0
PRODID:-//NADI Sg Korok, Padang Kerbau - ECPv6.15.13.1//NONSGML v1.0//EN
CALSCALE:GREGORIAN
METHOD:PUBLISH
X-WR-CALNAME:NADI Sg Korok, Padang Kerbau
X-ORIGINAL-URL:https://sgkorok.nadi.my
X-WR-CALDESC:Events for NADI Sg Korok, Padang Kerbau
REFRESH-INTERVAL;VALUE=DURATION:PT1H
X-Robots-Tag:noindex
X-PUBLISHED-TTL:PT1H
BEGIN:VTIMEZONE
TZID:Asia/Kuala_Lumpur
BEGIN:STANDARD
TZOFFSETFROM:+0800
TZOFFSETTO:+0800
TZNAME:+08
DTSTART:20240101T000000
END:STANDARD
END:VTIMEZONE
BEGIN:VEVENT
DTSTART;TZID=Asia/Kuala_Lumpur:20251211T090000
DTEND;TZID=Asia/Kuala_Lumpur:20251211T100000
DTSTAMP:20260421T124831
CREATED:20251202T063626Z
LAST-MODIFIED:20251202T063626Z
UID:6353-1765443600-1765447200@sgkorok.nadi.my
SUMMARY:WEBINAR ATAS TALIAN 2 VODEO PRA LATIHAN (PEMASARAN & OPERASI PERNIAGAAN)
DESCRIPTION:
URL:https://sgkorok.nadi.my/event/webinar-atas-talian-2-vodeo-pra-latihan-pemasaran-operasi-perniagaan/
END:VEVENT
END:VCALENDAR