BEGIN:VCALENDAR
VERSION:2.0
PRODID:-//NADI Sg Korok, Padang Kerbau - ECPv6.15.13.1//NONSGML v1.0//EN
CALSCALE:GREGORIAN
METHOD:PUBLISH
X-WR-CALNAME:NADI Sg Korok, Padang Kerbau
X-ORIGINAL-URL:https://sgkorok.nadi.my
X-WR-CALDESC:Events for NADI Sg Korok, Padang Kerbau
REFRESH-INTERVAL;VALUE=DURATION:PT1H
X-Robots-Tag:noindex
X-PUBLISHED-TTL:PT1H
BEGIN:VTIMEZONE
TZID:Asia/Kuala_Lumpur
BEGIN:STANDARD
TZOFFSETFROM:+0800
TZOFFSETTO:+0800
TZNAME:+08
DTSTART:20240101T000000
END:STANDARD
END:VTIMEZONE
BEGIN:VEVENT
DTSTART;TZID=Asia/Kuala_Lumpur:20251212T153000
DTEND;TZID=Asia/Kuala_Lumpur:20251212T163000
DTSTAMP:20260421T124836
CREATED:20251202T063647Z
LAST-MODIFIED:20251202T063647Z
UID:6355-1765553400-1765557000@sgkorok.nadi.my
SUMMARY:GUIDANCE TUITION TINGKATAN 5 BAHASA MELAYU
DESCRIPTION:GUIDANCE TUITION TINGKATAN 5 BAHASA MELAYU
URL:https://sgkorok.nadi.my/event/guidance-tuition-tingkatan-5-bahasa-melayu/
END:VEVENT
BEGIN:VEVENT
DTSTART;TZID=Asia/Kuala_Lumpur:20251212T153000
DTEND;TZID=Asia/Kuala_Lumpur:20251212T163000
DTSTAMP:20260421T124836
CREATED:20251202T063711Z
LAST-MODIFIED:20251202T063711Z
UID:6357-1765553400-1765557000@sgkorok.nadi.my
SUMMARY:GUIDANCE TUITION TINGKATAN 5 BAHASA INGGERIS
DESCRIPTION:
URL:https://sgkorok.nadi.my/event/guidance-tuition-tingkatan-5-bahasa-inggeris/
END:VEVENT
END:VCALENDAR