BEGIN:VCALENDAR
VERSION:2.0
PRODID:-//NADI Sg Korok, Padang Kerbau - ECPv6.15.13.1//NONSGML v1.0//EN
CALSCALE:GREGORIAN
METHOD:PUBLISH
X-WR-CALNAME:NADI Sg Korok, Padang Kerbau
X-ORIGINAL-URL:https://sgkorok.nadi.my
X-WR-CALDESC:Events for NADI Sg Korok, Padang Kerbau
REFRESH-INTERVAL;VALUE=DURATION:PT1H
X-Robots-Tag:noindex
X-PUBLISHED-TTL:PT1H
BEGIN:VTIMEZONE
TZID:Asia/Kuala_Lumpur
BEGIN:STANDARD
TZOFFSETFROM:+0800
TZOFFSETTO:+0800
TZNAME:+08
DTSTART:20240101T000000
END:STANDARD
END:VTIMEZONE
BEGIN:VEVENT
DTSTART;TZID=Asia/Kuala_Lumpur:20251215T100000
DTEND;TZID=Asia/Kuala_Lumpur:20251215T110000
DTSTAMP:20260421T120931
CREATED:20251202T063929Z
LAST-MODIFIED:20251202T063929Z
UID:6364-1765792800-1765796400@sgkorok.nadi.my
SUMMARY:PODCAST EMPOWHER (INI JENAMA SAYA\, TOLONG JANGAN CIPLAK)
DESCRIPTION:
URL:https://sgkorok.nadi.my/event/podcast-empowher-ini-jenama-saya-tolong-jangan-ciplak/
END:VEVENT
BEGIN:VEVENT
DTSTART;TZID=Asia/Kuala_Lumpur:20251215T150000
DTEND;TZID=Asia/Kuala_Lumpur:20251215T160000
DTSTAMP:20260421T120931
CREATED:20251202T063845Z
LAST-MODIFIED:20251202T063845Z
UID:6361-1765810800-1765814400@sgkorok.nadi.my
SUMMARY:VOD SESI 20
DESCRIPTION:
URL:https://sgkorok.nadi.my/event/vod-sesi-20/
END:VEVENT
BEGIN:VEVENT
DTSTART;TZID=Asia/Kuala_Lumpur:20251215T153000
DTEND;TZID=Asia/Kuala_Lumpur:20251215T163000
DTSTAMP:20260421T120931
CREATED:20251202T064000Z
LAST-MODIFIED:20251202T064000Z
UID:6366-1765812600-1765816200@sgkorok.nadi.my
SUMMARY:OPEN TUITION MATEMATIK
DESCRIPTION:
URL:https://sgkorok.nadi.my/event/open-tuition-matematik-3/
END:VEVENT
END:VCALENDAR