BEGIN:VCALENDAR
VERSION:2.0
PRODID:-//NADI Sg Korok, Padang Kerbau - ECPv6.15.13.1//NONSGML v1.0//EN
CALSCALE:GREGORIAN
METHOD:PUBLISH
X-WR-CALNAME:NADI Sg Korok, Padang Kerbau
X-ORIGINAL-URL:https://sgkorok.nadi.my
X-WR-CALDESC:Events for NADI Sg Korok, Padang Kerbau
REFRESH-INTERVAL;VALUE=DURATION:PT1H
X-Robots-Tag:noindex
X-PUBLISHED-TTL:PT1H
BEGIN:VTIMEZONE
TZID:Asia/Kuala_Lumpur
BEGIN:STANDARD
TZOFFSETFROM:+0800
TZOFFSETTO:+0800
TZNAME:+08
DTSTART:20240101T000000
END:STANDARD
END:VTIMEZONE
BEGIN:VEVENT
DTSTART;TZID=Asia/Kuala_Lumpur:20251216T150000
DTEND;TZID=Asia/Kuala_Lumpur:20251216T160000
DTSTAMP:20260421T131755
CREATED:20251202T064109Z
LAST-MODIFIED:20251202T070010Z
UID:6370-1765897200-1765900800@sgkorok.nadi.my
SUMMARY:MAHIR JAHIT (RECAP CLASS)
DESCRIPTION:
URL:https://sgkorok.nadi.my/event/mahir-jahit-recap-class/
END:VEVENT
BEGIN:VEVENT
DTSTART;TZID=Asia/Kuala_Lumpur:20251216T153000
DTEND;TZID=Asia/Kuala_Lumpur:20251216T163000
DTSTAMP:20260421T131755
CREATED:20251202T064032Z
LAST-MODIFIED:20251202T064032Z
UID:6368-1765899000-1765902600@sgkorok.nadi.my
SUMMARY:OPEN TUITION BAHASA INGGERIS
DESCRIPTION:
URL:https://sgkorok.nadi.my/event/open-tuition-bahasa-inggeris-2/
END:VEVENT
END:VCALENDAR