BEGIN:VCALENDAR
VERSION:2.0
PRODID:-//NADI Sg Korok, Padang Kerbau - ECPv6.15.13.1//NONSGML v1.0//EN
CALSCALE:GREGORIAN
METHOD:PUBLISH
X-WR-CALNAME:NADI Sg Korok, Padang Kerbau
X-ORIGINAL-URL:https://sgkorok.nadi.my
X-WR-CALDESC:Events for NADI Sg Korok, Padang Kerbau
REFRESH-INTERVAL;VALUE=DURATION:PT1H
X-Robots-Tag:noindex
X-PUBLISHED-TTL:PT1H
BEGIN:VTIMEZONE
TZID:Asia/Kuala_Lumpur
BEGIN:STANDARD
TZOFFSETFROM:+0800
TZOFFSETTO:+0800
TZNAME:+08
DTSTART:20250101T000000
END:STANDARD
END:VTIMEZONE
BEGIN:VEVENT
DTSTART;TZID=Asia/Kuala_Lumpur:20260207T100000
DTEND;TZID=Asia/Kuala_Lumpur:20260207T113000
DTSTAMP:20260421T110641
CREATED:20260204T070405Z
LAST-MODIFIED:20260204T070405Z
UID:6701-1770458400-1770463800@sgkorok.nadi.my
SUMMARY:KIDVENTURE WEBINAR ATAS TALIAN: OPERASI PERNIAGAAN
DESCRIPTION:
URL:https://sgkorok.nadi.my/event/kidventure-webinar-atas-talian-operasi-perniagaan/
END:VEVENT
BEGIN:VEVENT
DTSTART;TZID=Asia/Kuala_Lumpur:20260207T150000
DTEND;TZID=Asia/Kuala_Lumpur:20260207T160000
DTSTAMP:20260421T110641
CREATED:20260204T070646Z
LAST-MODIFIED:20260204T070646Z
UID:6703-1770476400-1770480000@sgkorok.nadi.my
SUMMARY:KEMPEN INTERNET SELAMAT - ELAK BULI SIBER: TANGJAWAB DIGITAL\,MULAKAN DARI KITA
DESCRIPTION:
URL:https://sgkorok.nadi.my/event/kempen-internet-selamat-elak-buli-siber-tangjawab-digitalmulakan-dari-kita/
END:VEVENT
END:VCALENDAR