BEGIN:VCALENDAR
VERSION:2.0
PRODID:-//NADI Sg Korok, Padang Kerbau - ECPv6.15.13.1//NONSGML v1.0//EN
CALSCALE:GREGORIAN
METHOD:PUBLISH
X-WR-CALNAME:NADI Sg Korok, Padang Kerbau
X-ORIGINAL-URL:https://sgkorok.nadi.my
X-WR-CALDESC:Events for NADI Sg Korok, Padang Kerbau
REFRESH-INTERVAL;VALUE=DURATION:PT1H
X-Robots-Tag:noindex
X-PUBLISHED-TTL:PT1H
BEGIN:VTIMEZONE
TZID:Asia/Kuala_Lumpur
BEGIN:STANDARD
TZOFFSETFROM:+0800
TZOFFSETTO:+0800
TZNAME:+08
DTSTART:20250101T000000
END:STANDARD
END:VTIMEZONE
BEGIN:VEVENT
DTSTART;TZID=Asia/Kuala_Lumpur:20260405T153000
DTEND;TZID=Asia/Kuala_Lumpur:20260405T163000
DTSTAMP:20260421T110916
CREATED:20260401T083713Z
LAST-MODIFIED:20260401T083713Z
UID:7062-1775403000-1775406600@sgkorok.nadi.my
SUMMARY:GUIDANCE TING 4 (MATEMATIK)
DESCRIPTION:
URL:https://sgkorok.nadi.my/event/guidance-ting-4-matematik/
END:VEVENT
BEGIN:VEVENT
DTSTART;TZID=Asia/Kuala_Lumpur:20260405T153000
DTEND;TZID=Asia/Kuala_Lumpur:20260405T163000
DTSTAMP:20260421T110916
CREATED:20260401T083752Z
LAST-MODIFIED:20260401T083752Z
UID:7064-1775403000-1775406600@sgkorok.nadi.my
SUMMARY:GUIDANCE TING 4 (MATEMATIK)
DESCRIPTION:
URL:https://sgkorok.nadi.my/event/guidance-ting-4-matematik-2/
END:VEVENT
END:VCALENDAR