BEGIN:VCALENDAR
VERSION:2.0
PRODID:-//NADI Sg Korok, Padang Kerbau - ECPv6.15.13.1//NONSGML v1.0//EN
CALSCALE:GREGORIAN
METHOD:PUBLISH
X-WR-CALNAME:NADI Sg Korok, Padang Kerbau
X-ORIGINAL-URL:https://sgkorok.nadi.my
X-WR-CALDESC:Events for NADI Sg Korok, Padang Kerbau
REFRESH-INTERVAL;VALUE=DURATION:PT1H
X-Robots-Tag:noindex
X-PUBLISHED-TTL:PT1H
BEGIN:VTIMEZONE
TZID:Asia/Kuala_Lumpur
BEGIN:STANDARD
TZOFFSETFROM:+0800
TZOFFSETTO:+0800
TZNAME:+08
DTSTART:20250101T000000
END:STANDARD
END:VTIMEZONE
BEGIN:VEVENT
DTSTART;TZID=Asia/Kuala_Lumpur:20260423T093000
DTEND;TZID=Asia/Kuala_Lumpur:20260423T110000
DTSTAMP:20260421T110922
CREATED:20260410T023403Z
LAST-MODIFIED:20260410T023403Z
UID:7144-1776936600-1776942000@sgkorok.nadi.my
SUMMARY:MAHIR PERTANIAN PINTAR
DESCRIPTION:
URL:https://sgkorok.nadi.my/event/mahir-pertanian-pintar-5/
END:VEVENT
BEGIN:VEVENT
DTSTART;TZID=Asia/Kuala_Lumpur:20260423T150000
DTEND;TZID=Asia/Kuala_Lumpur:20260423T163000
DTSTAMP:20260421T110922
CREATED:20260410T023424Z
LAST-MODIFIED:20260410T023424Z
UID:7146-1776956400-1776961800@sgkorok.nadi.my
SUMMARY:MAHIR FOTO
DESCRIPTION:
URL:https://sgkorok.nadi.my/event/mahir-foto-9/
END:VEVENT
BEGIN:VEVENT
DTSTART;TZID=Asia/Kuala_Lumpur:20260423T150000
DTEND;TZID=Asia/Kuala_Lumpur:20260423T163000
DTSTAMP:20260421T110922
CREATED:20260410T023446Z
LAST-MODIFIED:20260410T023446Z
UID:7148-1776956400-1776961800@sgkorok.nadi.my
SUMMARY:WEB 7 BAGAIMANA AKAUN SOCIAL MEDIA ANDA BOLEH DIGODAM
DESCRIPTION:
URL:https://sgkorok.nadi.my/event/web-7-bagaimana-akaun-social-media-anda-boleh-digodam/
END:VEVENT
END:VCALENDAR