BEGIN:VCALENDAR
VERSION:2.0
PRODID:-//NADI Sg Korok, Padang Kerbau - ECPv6.15.13.1//NONSGML v1.0//EN
CALSCALE:GREGORIAN
METHOD:PUBLISH
X-WR-CALNAME:NADI Sg Korok, Padang Kerbau
X-ORIGINAL-URL:https://sgkorok.nadi.my
X-WR-CALDESC:Events for NADI Sg Korok, Padang Kerbau
REFRESH-INTERVAL;VALUE=DURATION:PT1H
X-Robots-Tag:noindex
X-PUBLISHED-TTL:PT1H
BEGIN:VTIMEZONE
TZID:Asia/Kuala_Lumpur
BEGIN:STANDARD
TZOFFSETFROM:+0800
TZOFFSETTO:+0800
TZNAME:+08
DTSTART:20240101T000000
END:STANDARD
END:VTIMEZONE
BEGIN:VEVENT
DTSTART;TZID=Asia/Kuala_Lumpur:20250801T090000
DTEND;TZID=Asia/Kuala_Lumpur:20250802T170000
DTSTAMP:20260426T041545
CREATED:20250802T030233Z
LAST-MODIFIED:20250818T084426Z
UID:5487-1754038800-1754154000@sgkorok.nadi.my
SUMMARY:MAHIR | MAHIR SHORT LEARNING SERIES
DESCRIPTION:
URL:https://sgkorok.nadi.my/event/mahir-mahir-short-learning-series/
END:VEVENT
BEGIN:VEVENT
DTSTART;TZID=Asia/Kuala_Lumpur:20250801T090000
DTEND;TZID=Asia/Kuala_Lumpur:20250831T170000
DTSTAMP:20260426T041545
CREATED:20250802T030149Z
LAST-MODIFIED:20250802T030149Z
UID:5485-1754038800-1756659600@sgkorok.nadi.my
SUMMARY:WELLBEING
DESCRIPTION:
URL:https://sgkorok.nadi.my/event/wellbeing/
END:VEVENT
BEGIN:VEVENT
DTSTART;TZID=Asia/Kuala_Lumpur:20250802T100000
DTEND;TZID=Asia/Kuala_Lumpur:20250802T110000
DTSTAMP:20260426T041545
CREATED:20250802T030334Z
LAST-MODIFIED:20250802T030645Z
UID:5489-1754128800-1754132400@sgkorok.nadi.my
SUMMARY:BENGKEL RENDAH – MICROBIT/ROBOTIK
DESCRIPTION:
URL:https://sgkorok.nadi.my/event/bengkel-rendah-microbit-robotik/
END:VEVENT
BEGIN:VEVENT
DTSTART;TZID=Asia/Kuala_Lumpur:20250804T100000
DTEND;TZID=Asia/Kuala_Lumpur:20250804T160000
DTSTAMP:20260426T041545
CREATED:20250802T030614Z
LAST-MODIFIED:20250802T030614Z
UID:5491-1754301600-1754323200@sgkorok.nadi.my
SUMMARY:EKELAS: MODUL 1-2
DESCRIPTION:
URL:https://sgkorok.nadi.my/event/ekelas-modul-1-2/
END:VEVENT
BEGIN:VEVENT
DTSTART;TZID=Asia/Kuala_Lumpur:20250805T100000
DTEND;TZID=Asia/Kuala_Lumpur:20250805T160000
DTSTAMP:20260426T041545
CREATED:20250802T030742Z
LAST-MODIFIED:20250802T030742Z
UID:5493-1754388000-1754409600@sgkorok.nadi.my
SUMMARY:EKELAS: MODULE 3-4
DESCRIPTION:
URL:https://sgkorok.nadi.my/event/ekelas-module-3-4/
END:VEVENT
BEGIN:VEVENT
DTSTART;TZID=Asia/Kuala_Lumpur:20250806T090000
DTEND;TZID=Asia/Kuala_Lumpur:20250806T170000
DTSTAMP:20260426T041545
CREATED:20250802T030924Z
LAST-MODIFIED:20250802T030924Z
UID:5497-1754470800-1754499600@sgkorok.nadi.my
SUMMARY:COHORT 4: VIDEO PRA LATIHAN\, PEMASARAN & OPERASI
DESCRIPTION:
URL:https://sgkorok.nadi.my/event/cohort-4-video-pra-latihan-pemasaran-operasi/
END:VEVENT
BEGIN:VEVENT
DTSTART;TZID=Asia/Kuala_Lumpur:20250806T100000
DTEND;TZID=Asia/Kuala_Lumpur:20250806T160000
DTSTAMP:20260426T041545
CREATED:20250802T030834Z
LAST-MODIFIED:20250802T030834Z
UID:5495-1754474400-1754496000@sgkorok.nadi.my
SUMMARY:EKELAS: MODULE 1-2
DESCRIPTION:
URL:https://sgkorok.nadi.my/event/ekelas-module-1-2/
END:VEVENT
BEGIN:VEVENT
DTSTART;TZID=Asia/Kuala_Lumpur:20250807T100000
DTEND;TZID=Asia/Kuala_Lumpur:20250807T160000
DTSTAMP:20260426T041545
CREATED:20250802T031005Z
LAST-MODIFIED:20250802T031005Z
UID:5499-1754560800-1754582400@sgkorok.nadi.my
SUMMARY:EKELAS: MODULE 3-4
DESCRIPTION:
URL:https://sgkorok.nadi.my/event/ekelas-module-3-4-2/
END:VEVENT
BEGIN:VEVENT
DTSTART;TZID=Asia/Kuala_Lumpur:20250809T090000
DTEND;TZID=Asia/Kuala_Lumpur:20250809T170000
DTSTAMP:20260426T041545
CREATED:20250802T031207Z
LAST-MODIFIED:20250802T031207Z
UID:5503-1754730000-1754758800@sgkorok.nadi.my
SUMMARY:UNBOXING KITS: PRIMARY - ROBOTIK
DESCRIPTION:
URL:https://sgkorok.nadi.my/event/unboxing-kits-primary-robotik/
END:VEVENT
BEGIN:VEVENT
DTSTART;TZID=Asia/Kuala_Lumpur:20250809T100000
DTEND;TZID=Asia/Kuala_Lumpur:20250809T120000
DTSTAMP:20260426T041545
CREATED:20250802T031115Z
LAST-MODIFIED:20250802T031115Z
UID:5501-1754733600-1754740800@sgkorok.nadi.my
SUMMARY:COHORT 4: WEBINAR -PELAN PERNIAGAAN PERTAMA SAYA
DESCRIPTION:
URL:https://sgkorok.nadi.my/event/cohort-4-webinar-pelan-perniagaan-pertama-saya/
END:VEVENT
BEGIN:VEVENT
DTSTART;TZID=Asia/Kuala_Lumpur:20250810T090000
DTEND;TZID=Asia/Kuala_Lumpur:20250810T170000
DTSTAMP:20260426T041545
CREATED:20250802T031256Z
LAST-MODIFIED:20250802T031256Z
UID:5505-1754816400-1754845200@sgkorok.nadi.my
SUMMARY:UNBOXING KITS: SECONDARY - INNOVATION
DESCRIPTION:
URL:https://sgkorok.nadi.my/event/unboxing-kits-secondary-innovation/
END:VEVENT
BEGIN:VEVENT
DTSTART;TZID=Asia/Kuala_Lumpur:20250811T090000
DTEND;TZID=Asia/Kuala_Lumpur:20250811T170000
DTSTAMP:20260426T041545
CREATED:20250802T031402Z
LAST-MODIFIED:20250802T031402Z
UID:5507-1754902800-1754931600@sgkorok.nadi.my
SUMMARY:COHORT 4: VIDEO PELAN PERNIAGAAN PERTAMA SAYA
DESCRIPTION:
URL:https://sgkorok.nadi.my/event/cohort-4-video-pelan-perniagaan-pertama-saya/
END:VEVENT
BEGIN:VEVENT
DTSTART;TZID=Asia/Kuala_Lumpur:20250811T100000
DTEND;TZID=Asia/Kuala_Lumpur:20250811T160000
DTSTAMP:20260426T041545
CREATED:20250802T031621Z
LAST-MODIFIED:20250802T031621Z
UID:5509-1754906400-1754928000@sgkorok.nadi.my
SUMMARY:EKELAS: MODULE 1-2
DESCRIPTION:
URL:https://sgkorok.nadi.my/event/ekelas-module-1-2-2/
END:VEVENT
BEGIN:VEVENT
DTSTART;TZID=Asia/Kuala_Lumpur:20250812T100000
DTEND;TZID=Asia/Kuala_Lumpur:20250812T160000
DTSTAMP:20260426T041545
CREATED:20250802T031707Z
LAST-MODIFIED:20250802T031707Z
UID:5511-1754992800-1755014400@sgkorok.nadi.my
SUMMARY:EKELAS: MODULE 3-4
DESCRIPTION:
URL:https://sgkorok.nadi.my/event/ekelas-module-3-4-3/
END:VEVENT
BEGIN:VEVENT
DTSTART;TZID=Asia/Kuala_Lumpur:20250813T100000
DTEND;TZID=Asia/Kuala_Lumpur:20250813T160000
DTSTAMP:20260426T041545
CREATED:20250802T031742Z
LAST-MODIFIED:20250802T031742Z
UID:5513-1755079200-1755100800@sgkorok.nadi.my
SUMMARY:EKELAS: MODULE 1-2
DESCRIPTION:
URL:https://sgkorok.nadi.my/event/ekelas-module-1-2-3/
END:VEVENT
BEGIN:VEVENT
DTSTART;TZID=Asia/Kuala_Lumpur:20250814T090000
DTEND;TZID=Asia/Kuala_Lumpur:20250814T170000
DTSTAMP:20260426T041545
CREATED:20250802T031956Z
LAST-MODIFIED:20250802T031956Z
UID:5517-1755162000-1755190800@sgkorok.nadi.my
SUMMARY:WEBINAR CYBERSECURITY
DESCRIPTION:
URL:https://sgkorok.nadi.my/event/webinar-cybersecurity-3/
END:VEVENT
BEGIN:VEVENT
DTSTART;TZID=Asia/Kuala_Lumpur:20250814T100000
DTEND;TZID=Asia/Kuala_Lumpur:20250814T160000
DTSTAMP:20260426T041545
CREATED:20250802T031925Z
LAST-MODIFIED:20250802T031925Z
UID:5515-1755165600-1755187200@sgkorok.nadi.my
SUMMARY:EKELAS: MODULE 3-4
DESCRIPTION:
URL:https://sgkorok.nadi.my/event/ekelas-module-3-4-4/
END:VEVENT
BEGIN:VEVENT
DTSTART;TZID=Asia/Kuala_Lumpur:20250817T100000
DTEND;TZID=Asia/Kuala_Lumpur:20250817T110000
DTSTAMP:20260426T041545
CREATED:20250817T080127Z
LAST-MODIFIED:20250817T080127Z
UID:5603-1755424800-1755428400@sgkorok.nadi.my
SUMMARY:BENGKEL MENENGAH – HTML/Python/SQL
DESCRIPTION:
URL:https://sgkorok.nadi.my/event/bengkel-menengah-html-python-sql/
END:VEVENT
BEGIN:VEVENT
DTSTART;TZID=Asia/Kuala_Lumpur:20250818T153000
DTEND;TZID=Asia/Kuala_Lumpur:20250818T163000
DTSTAMP:20260426T041545
CREATED:20250817T080233Z
LAST-MODIFIED:20250817T080233Z
UID:5605-1755531000-1755534600@sgkorok.nadi.my
SUMMARY:OPEN TUITION: MATEMATIK (TING (3/4/5)
DESCRIPTION:
URL:https://sgkorok.nadi.my/event/open-tuition-matematik-ting-3-4-5/
END:VEVENT
BEGIN:VEVENT
DTSTART;TZID=Asia/Kuala_Lumpur:20250819T093000
DTEND;TZID=Asia/Kuala_Lumpur:20250819T110000
DTSTAMP:20260426T041545
CREATED:20250817T080354Z
LAST-MODIFIED:20250817T080354Z
UID:5607-1755595800-1755601200@sgkorok.nadi.my
SUMMARY:NADI MAHIR MASAK SIRI 2: MINGGU 4
DESCRIPTION:
URL:https://sgkorok.nadi.my/event/nadi-mahir-masak-siri-2-minggu-4/
END:VEVENT
BEGIN:VEVENT
DTSTART;TZID=Asia/Kuala_Lumpur:20250819T150000
DTEND;TZID=Asia/Kuala_Lumpur:20250819T163000
DTSTAMP:20260426T041545
CREATED:20250817T080457Z
LAST-MODIFIED:20250817T080457Z
UID:5609-1755615600-1755621000@sgkorok.nadi.my
SUMMARY:NADI MAHIR JAHIT SIRI 2: MINGGU 4
DESCRIPTION:
URL:https://sgkorok.nadi.my/event/nadi-mahir-jahit-siri-2-minggu-4/
END:VEVENT
BEGIN:VEVENT
DTSTART;TZID=Asia/Kuala_Lumpur:20250819T153000
DTEND;TZID=Asia/Kuala_Lumpur:20250819T163000
DTSTAMP:20260426T041545
CREATED:20250817T080531Z
LAST-MODIFIED:20250817T080704Z
UID:5611-1755617400-1755621000@sgkorok.nadi.my
SUMMARY:OPEN TUITION : BAHASA INGGERIS (TING (3/4/5)
DESCRIPTION:
URL:https://sgkorok.nadi.my/event/open-tuition-bahasa-inggeris-ting-3-4-5/
END:VEVENT
BEGIN:VEVENT
DTSTART;TZID=Asia/Kuala_Lumpur:20250825T093000
DTEND;TZID=Asia/Kuala_Lumpur:20250825T103000
DTSTAMP:20260426T041545
CREATED:20250824T093942Z
LAST-MODIFIED:20250824T093942Z
UID:5650-1756114200-1756117800@sgkorok.nadi.my
SUMMARY:KEMPEN INTERNET SELAMAT (KIS) DI SK BUKIT JENUN
DESCRIPTION:
URL:https://sgkorok.nadi.my/event/kempen-internet-selamat-kis-di-sk-bukit-jenun/
END:VEVENT
BEGIN:VEVENT
DTSTART;TZID=Asia/Kuala_Lumpur:20250825T113000
DTEND;TZID=Asia/Kuala_Lumpur:20250825T123000
DTSTAMP:20260426T041545
CREATED:20250824T094034Z
LAST-MODIFIED:20250824T094034Z
UID:5652-1756121400-1756125000@sgkorok.nadi.my
SUMMARY:KEMPEN INTERNET SELAMAT (KIS) SMK AIR PUTIH DALAM
DESCRIPTION:
URL:https://sgkorok.nadi.my/event/kempen-internet-selamat-kis-smk-air-putih-dalam/
END:VEVENT
BEGIN:VEVENT
DTSTART;TZID=Asia/Kuala_Lumpur:20250826T103000
DTEND;TZID=Asia/Kuala_Lumpur:20250826T113000
DTSTAMP:20260426T041545
CREATED:20250824T094123Z
LAST-MODIFIED:20250824T094123Z
UID:5654-1756204200-1756207800@sgkorok.nadi.my
SUMMARY:KEMPEN INTERNET SELAMAT (KIS) SK KUALA RIMAU
DESCRIPTION:
URL:https://sgkorok.nadi.my/event/kempen-internet-selamat-kis-sk-kuala-rimau/
END:VEVENT
BEGIN:VEVENT
DTSTART;TZID=Asia/Kuala_Lumpur:20250826T110000
DTEND;TZID=Asia/Kuala_Lumpur:20250826T120000
DTSTAMP:20260426T041545
CREATED:20250824T094240Z
LAST-MODIFIED:20250824T094240Z
UID:5658-1756206000-1756209600@sgkorok.nadi.my
SUMMARY:KEMPEN INTERNET SELAMAT (KIS) SK HUJUNG KETON
DESCRIPTION:
URL:https://sgkorok.nadi.my/event/kempen-internet-selamat-kis-sk-hujung-keton/
END:VEVENT
BEGIN:VEVENT
DTSTART;TZID=Asia/Kuala_Lumpur:20250827T090000
DTEND;TZID=Asia/Kuala_Lumpur:20250827T100000
DTSTAMP:20260426T041545
CREATED:20250824T094212Z
LAST-MODIFIED:20250824T094212Z
UID:5656-1756285200-1756288800@sgkorok.nadi.my
SUMMARY:KEMPEN INTERNET SELAMAT (KIS) SK POKOK ASAM
DESCRIPTION:
URL:https://sgkorok.nadi.my/event/kempen-internet-selamat-kis-sk-pokok-asam/
END:VEVENT
END:VCALENDAR