BEGIN:VCALENDAR
VERSION:2.0
PRODID:-//NADI Sg Korok, Padang Kerbau - ECPv6.15.13.1//NONSGML v1.0//EN
CALSCALE:GREGORIAN
METHOD:PUBLISH
X-WR-CALNAME:NADI Sg Korok, Padang Kerbau
X-ORIGINAL-URL:https://sgkorok.nadi.my
X-WR-CALDESC:Events for NADI Sg Korok, Padang Kerbau
REFRESH-INTERVAL;VALUE=DURATION:PT1H
X-Robots-Tag:noindex
X-PUBLISHED-TTL:PT1H
BEGIN:VTIMEZONE
TZID:Asia/Kuala_Lumpur
BEGIN:STANDARD
TZOFFSETFROM:+0800
TZOFFSETTO:+0800
TZNAME:+08
DTSTART:20240101T000000
END:STANDARD
END:VTIMEZONE
BEGIN:VEVENT
DTSTART;TZID=Asia/Kuala_Lumpur:20251001T093000
DTEND;TZID=Asia/Kuala_Lumpur:20251001T233000
DTSTAMP:20260424T230536
CREATED:20251002T033340Z
LAST-MODIFIED:20251002T033340Z
UID:5874-1759311000-1759361400@sgkorok.nadi.my
SUMMARY:MAHIR MASAK
DESCRIPTION:
URL:https://sgkorok.nadi.my/event/mahir-masak/
END:VEVENT
BEGIN:VEVENT
DTSTART;TZID=Asia/Kuala_Lumpur:20251001T100000
DTEND;TZID=Asia/Kuala_Lumpur:20251001T103000
DTSTAMP:20260424T230536
CREATED:20251002T033431Z
LAST-MODIFIED:20251002T033431Z
UID:5876-1759312800-1759314600@sgkorok.nadi.my
SUMMARY:NADI CARE KEKAL KUAT & STABIL! | S064
DESCRIPTION:KEKAL KUAT & STABIL! | S064
URL:https://sgkorok.nadi.my/event/nadi-care-kekal-kuat-stabil-s064/
END:VEVENT
BEGIN:VEVENT
DTSTART;TZID=Asia/Kuala_Lumpur:20251002T100000
DTEND;TZID=Asia/Kuala_Lumpur:20251002T110000
DTSTAMP:20260424T230536
CREATED:20251002T033809Z
LAST-MODIFIED:20251002T033809Z
UID:5878-1759399200-1759402800@sgkorok.nadi.my
SUMMARY:NARSIS DALAM KELUARGA: MANIPULASI YANG DISANGKA KASIH SAYANG | P053
DESCRIPTION:
URL:https://sgkorok.nadi.my/event/narsis-dalam-keluarga-manipulasi-yang-disangka-kasih-sayang-p053/
END:VEVENT
BEGIN:VEVENT
DTSTART;TZID=Asia/Kuala_Lumpur:20251003T150000
DTEND;TZID=Asia/Kuala_Lumpur:20251003T163000
DTSTAMP:20260424T230536
CREATED:20251002T033844Z
LAST-MODIFIED:20251002T033844Z
UID:5880-1759503600-1759509000@sgkorok.nadi.my
SUMMARY:MAHIR BAIKI GAJET
DESCRIPTION:
URL:https://sgkorok.nadi.my/event/mahir-baiki-gajet/
END:VEVENT
BEGIN:VEVENT
DTSTART;TZID=Asia/Kuala_Lumpur:20251004T143000
DTEND;TZID=Asia/Kuala_Lumpur:20251004T160000
DTSTAMP:20260424T230536
CREATED:20251002T075927Z
LAST-MODIFIED:20251002T075927Z
UID:5883-1759588200-1759593600@sgkorok.nadi.my
SUMMARY:WEBINAR BERKALA BAHASA INGGERIS EDISI 5 TING 1-5
DESCRIPTION:
URL:https://sgkorok.nadi.my/event/webinar-berkala-bahasa-inggeris-edisi-5-ting-1-5/
END:VEVENT
BEGIN:VEVENT
DTSTART;TZID=Asia/Kuala_Lumpur:20251005T153000
DTEND;TZID=Asia/Kuala_Lumpur:20251005T163000
DTSTAMP:20260424T230536
CREATED:20251002T080515Z
LAST-MODIFIED:20251002T080604Z
UID:5885-1759678200-1759681800@sgkorok.nadi.my
SUMMARY:GUIDENCE TUITION TING 4 (MATEMATIK)
DESCRIPTION:
URL:https://sgkorok.nadi.my/event/guidence-tuition-ting-4-matematik/
END:VEVENT
BEGIN:VEVENT
DTSTART;TZID=Asia/Kuala_Lumpur:20251006T023000
DTEND;TZID=Asia/Kuala_Lumpur:20251006T153000
DTSTAMP:20260424T230536
CREATED:20251002T083513Z
LAST-MODIFIED:20251002T083513Z
UID:5888-1759717800-1759764600@sgkorok.nadi.my
SUMMARY:ENGLISH PROFICIENCY LESSON 16
DESCRIPTION:ENGLISH PROFICIENCY LESSON 16
URL:https://sgkorok.nadi.my/event/english-proficiency-lesson-16/
END:VEVENT
BEGIN:VEVENT
DTSTART;TZID=Asia/Kuala_Lumpur:20251006T140000
DTEND;TZID=Asia/Kuala_Lumpur:20251006T150000
DTSTAMP:20260424T230536
CREATED:20251003T035851Z
LAST-MODIFIED:20251003T035851Z
UID:5894-1759759200-1759762800@sgkorok.nadi.my
SUMMARY:VIDEO ON DEMAND (SESI 10)
DESCRIPTION:
URL:https://sgkorok.nadi.my/event/video-on-demand-sesi-10/
END:VEVENT
BEGIN:VEVENT
DTSTART;TZID=Asia/Kuala_Lumpur:20251006T153000
DTEND;TZID=Asia/Kuala_Lumpur:20251006T163000
DTSTAMP:20260424T230536
CREATED:20251002T093711Z
LAST-MODIFIED:20251002T093711Z
UID:5890-1759764600-1759768200@sgkorok.nadi.my
SUMMARY:GUIDENCE TUITION TING 4 (BM)
DESCRIPTION:
URL:https://sgkorok.nadi.my/event/guidence-tuition-ting-4-bm/
END:VEVENT
BEGIN:VEVENT
DTSTART;TZID=Asia/Kuala_Lumpur:20251006T153000
DTEND;TZID=Asia/Kuala_Lumpur:20251006T163000
DTSTAMP:20260424T230536
CREATED:20251003T035814Z
LAST-MODIFIED:20251003T035814Z
UID:5892-1759764600-1759768200@sgkorok.nadi.my
SUMMARY:OPEN TUITION MATEMATIK
DESCRIPTION:
URL:https://sgkorok.nadi.my/event/open-tuition-matematik/
END:VEVENT
BEGIN:VEVENT
DTSTART;TZID=Asia/Kuala_Lumpur:20251007T093000
DTEND;TZID=Asia/Kuala_Lumpur:20251007T100000
DTSTAMP:20260424T230536
CREATED:20251003T035928Z
LAST-MODIFIED:20251003T035928Z
UID:5896-1759829400-1759831200@sgkorok.nadi.my
SUMMARY:MAHIR MASAK
DESCRIPTION:
URL:https://sgkorok.nadi.my/event/mahir-masak-2/
END:VEVENT
BEGIN:VEVENT
DTSTART;TZID=Asia/Kuala_Lumpur:20251007T100000
DTEND;TZID=Asia/Kuala_Lumpur:20251007T110000
DTSTAMP:20260424T230536
CREATED:20251003T040116Z
LAST-MODIFIED:20251003T040116Z
UID:5903-1759831200-1759834800@sgkorok.nadi.my
SUMMARY:WEBINAR PEMASARAN DIGITAL EKELAS USAHAWAN- STRATEGI PEMASARAN DIGITAL
DESCRIPTION:
URL:https://sgkorok.nadi.my/event/webinar-pemasaran-digital-ekelas-usahawan-strategi-pemasaran-digital/
END:VEVENT
BEGIN:VEVENT
DTSTART;TZID=Asia/Kuala_Lumpur:20251007T143000
DTEND;TZID=Asia/Kuala_Lumpur:20251007T153000
DTSTAMP:20260424T230536
CREATED:20251003T040158Z
LAST-MODIFIED:20251003T040158Z
UID:5905-1759847400-1759851000@sgkorok.nadi.my
SUMMARY:WEBINAR PEMASARAN DIGITAL EKELAS USAHAWAN- ASAS KOMUNIKASI VISUAL
DESCRIPTION:
URL:https://sgkorok.nadi.my/event/webinar-pemasaran-digital-ekelas-usahawan-asas-komunikasi-visual/
END:VEVENT
BEGIN:VEVENT
DTSTART;TZID=Asia/Kuala_Lumpur:20251007T150000
DTEND;TZID=Asia/Kuala_Lumpur:20251007T163000
DTSTAMP:20260424T230536
CREATED:20251003T040012Z
LAST-MODIFIED:20251003T040012Z
UID:5898-1759849200-1759854600@sgkorok.nadi.my
SUMMARY:MAHIR JAHIT
DESCRIPTION:
URL:https://sgkorok.nadi.my/event/mahir-jahit-4/
END:VEVENT
BEGIN:VEVENT
DTSTART;TZID=Asia/Kuala_Lumpur:20251007T153000
DTEND;TZID=Asia/Kuala_Lumpur:20251007T163000
DTSTAMP:20260424T230536
CREATED:20251003T040030Z
LAST-MODIFIED:20251003T040046Z
UID:5900-1759851000-1759854600@sgkorok.nadi.my
SUMMARY:GUIDENCE TUITION TING 4 (SEJ) & OPEN TUITION BI
DESCRIPTION:
URL:https://sgkorok.nadi.my/event/guidence-tuition-ting-4-sej/
END:VEVENT
BEGIN:VEVENT
DTSTART;TZID=Asia/Kuala_Lumpur:20251008T093000
DTEND;TZID=Asia/Kuala_Lumpur:20251008T110000
DTSTAMP:20260424T230536
CREATED:20251003T040224Z
LAST-MODIFIED:20251003T040224Z
UID:5907-1759915800-1759921200@sgkorok.nadi.my
SUMMARY:MAHIR MASAK
DESCRIPTION:
URL:https://sgkorok.nadi.my/event/mahir-masak-3/
END:VEVENT
BEGIN:VEVENT
DTSTART;TZID=Asia/Kuala_Lumpur:20251009T100000
DTEND;TZID=Asia/Kuala_Lumpur:20251009T110000
DTSTAMP:20260424T230536
CREATED:20251003T040327Z
LAST-MODIFIED:20251003T040327Z
UID:5911-1760004000-1760007600@sgkorok.nadi.my
SUMMARY:WEBINAR PEMASARAN DIGITAL EKELAS USAHAWAN-AI UNTUK MENCIPTA KANDUNGAN
DESCRIPTION:
URL:https://sgkorok.nadi.my/event/webinar-pemasaran-digital-ekelas-usahawan-ai-untuk-mencipta-kandungan/
END:VEVENT
BEGIN:VEVENT
DTSTART;TZID=Asia/Kuala_Lumpur:20251009T140000
DTEND;TZID=Asia/Kuala_Lumpur:20251009T150000
DTSTAMP:20260424T230536
CREATED:20251003T040400Z
LAST-MODIFIED:20251003T040400Z
UID:5913-1760018400-1760022000@sgkorok.nadi.my
SUMMARY:WEBINAR PEMASARAN DIGITAL EKELAS USAHAWAN- MENGURUS DAN MENGUKUR KEBERKESANAN PEMASARAN DIGITAL
DESCRIPTION:
URL:https://sgkorok.nadi.my/event/webinar-pemasaran-digital-ekelas-usahawan-mengurus-dan-mengukur-keberkesanan-pemasaran-digital/
END:VEVENT
BEGIN:VEVENT
DTSTART;TZID=Asia/Kuala_Lumpur:20251009T153000
DTEND;TZID=Asia/Kuala_Lumpur:20251009T163000
DTSTAMP:20260424T230536
CREATED:20251003T040304Z
LAST-MODIFIED:20251003T040304Z
UID:5909-1760023800-1760027400@sgkorok.nadi.my
SUMMARY:GUIDENCE TUITION TING (BI) OPEN TUITION BM
DESCRIPTION:
URL:https://sgkorok.nadi.my/event/guidence-tuition-ting-bi-open-tuition-bm/
END:VEVENT
BEGIN:VEVENT
DTSTART;TZID=Asia/Kuala_Lumpur:20251010T030000
DTEND;TZID=Asia/Kuala_Lumpur:20251010T163000
DTSTAMP:20260424T230536
CREATED:20251003T040555Z
LAST-MODIFIED:20251003T040555Z
UID:5917-1760065200-1760113800@sgkorok.nadi.my
SUMMARY:[WEBINAR NADI x CYBERSECURITY]  ANCAMAN SIBER DI TEMPAT AWAM LIVE DEMO CARD CLONNING & TRACKER GADGET SLOT 1
DESCRIPTION:
URL:https://sgkorok.nadi.my/event/webinar-nadi-x-cybersecurity-ancaman-siber-di-tempat-awam-live-demo-card-clonning-tracker-gadget-slot-1/
END:VEVENT
BEGIN:VEVENT
DTSTART;TZID=Asia/Kuala_Lumpur:20251010T150000
DTEND;TZID=Asia/Kuala_Lumpur:20251010T160000
DTSTAMP:20260424T230536
CREATED:20251003T040424Z
LAST-MODIFIED:20251003T040424Z
UID:5915-1760108400-1760112000@sgkorok.nadi.my
SUMMARY:MAHIR BAIKI GAJET
DESCRIPTION:
URL:https://sgkorok.nadi.my/event/mahir-baiki-gajet-2/
END:VEVENT
BEGIN:VEVENT
DTSTART;TZID=Asia/Kuala_Lumpur:20251011T100000
DTEND;TZID=Asia/Kuala_Lumpur:20251011T110000
DTSTAMP:20260424T230536
CREATED:20251003T040740Z
LAST-MODIFIED:20251003T040740Z
UID:5919-1760176800-1760180400@sgkorok.nadi.my
SUMMARY:EBINAR PLAN PERNIAGAAN PINTAR SAYA
DESCRIPTION:
URL:https://sgkorok.nadi.my/event/ebinar-plan-perniagaan-pintar-saya/
END:VEVENT
BEGIN:VEVENT
DTSTART;TZID=Asia/Kuala_Lumpur:20251011T100000
DTEND;TZID=Asia/Kuala_Lumpur:20251011T110000
DTSTAMP:20260424T230536
CREATED:20251003T040815Z
LAST-MODIFIED:20251003T040815Z
UID:5921-1760176800-1760180400@sgkorok.nadi.my
SUMMARY:BENGKEL SUMO ROBOT SESI 2 (SEK RENDAH)
DESCRIPTION:
URL:https://sgkorok.nadi.my/event/bengkel-sumo-robot-sesi-2-sek-rendah/
END:VEVENT
BEGIN:VEVENT
DTSTART;TZID=Asia/Kuala_Lumpur:20251011T113000
DTEND;TZID=Asia/Kuala_Lumpur:20251011T120000
DTSTAMP:20260424T230536
CREATED:20251003T040845Z
LAST-MODIFIED:20251003T040845Z
UID:5923-1760182200-1760184000@sgkorok.nadi.my
SUMMARY:BENGKEL IOT INOVASI SESI 2 (SEK MENENGAH)
DESCRIPTION:
URL:https://sgkorok.nadi.my/event/bengkel-iot-inovasi-sesi-2-sek-menengah/
END:VEVENT
BEGIN:VEVENT
DTSTART;TZID=Asia/Kuala_Lumpur:20251013T100000
DTEND;TZID=Asia/Kuala_Lumpur:20251013T110000
DTSTAMP:20260424T230536
CREATED:20251003T040938Z
LAST-MODIFIED:20251003T040938Z
UID:5927-1760349600-1760353200@sgkorok.nadi.my
SUMMARY:VIDEO ON DEMAND (SESI 11)
DESCRIPTION:
URL:https://sgkorok.nadi.my/event/video-on-demand-sesi-11/
END:VEVENT
BEGIN:VEVENT
DTSTART;TZID=Asia/Kuala_Lumpur:20251013T153000
DTEND;TZID=Asia/Kuala_Lumpur:20251013T163000
DTSTAMP:20260424T230536
CREATED:20251003T040909Z
LAST-MODIFIED:20251003T040909Z
UID:5925-1760369400-1760373000@sgkorok.nadi.my
SUMMARY:OPEN TUITION SEJ
DESCRIPTION:
URL:https://sgkorok.nadi.my/event/open-tuition-sej/
END:VEVENT
BEGIN:VEVENT
DTSTART;TZID=Asia/Kuala_Lumpur:20251014T093000
DTEND;TZID=Asia/Kuala_Lumpur:20251014T110000
DTSTAMP:20260424T230536
CREATED:20251003T041110Z
LAST-MODIFIED:20251003T041110Z
UID:5931-1760434200-1760439600@sgkorok.nadi.my
SUMMARY:MAHIR MASAK
DESCRIPTION:
URL:https://sgkorok.nadi.my/event/mahir-masak-4/
END:VEVENT
BEGIN:VEVENT
DTSTART;TZID=Asia/Kuala_Lumpur:20251014T150000
DTEND;TZID=Asia/Kuala_Lumpur:20251014T163000
DTSTAMP:20260424T230536
CREATED:20251003T041129Z
LAST-MODIFIED:20251003T041129Z
UID:5933-1760454000-1760459400@sgkorok.nadi.my
SUMMARY:MAHIR JAHIT
DESCRIPTION:
URL:https://sgkorok.nadi.my/event/mahir-jahit-5/
END:VEVENT
BEGIN:VEVENT
DTSTART;TZID=Asia/Kuala_Lumpur:20251014T153000
DTEND;TZID=Asia/Kuala_Lumpur:20251014T163000
DTSTAMP:20260424T230536
CREATED:20251003T041051Z
LAST-MODIFIED:20251003T041051Z
UID:5929-1760455800-1760459400@sgkorok.nadi.my
SUMMARY:OPEN TUITION MATH
DESCRIPTION:
URL:https://sgkorok.nadi.my/event/open-tuition-math/
END:VEVENT
BEGIN:VEVENT
DTSTART;TZID=Asia/Kuala_Lumpur:20251015T093000
DTEND;TZID=Asia/Kuala_Lumpur:20251015T110000
DTSTAMP:20260424T230536
CREATED:20251003T041151Z
LAST-MODIFIED:20251003T041151Z
UID:5935-1760520600-1760526000@sgkorok.nadi.my
SUMMARY:MAHIR MASAK
DESCRIPTION:
URL:https://sgkorok.nadi.my/event/mahir-masak-5/
END:VEVENT
END:VCALENDAR