BEGIN:VCALENDAR
VERSION:2.0
PRODID:-//NADI Sg Korok, Padang Kerbau - ECPv6.15.13.1//NONSGML v1.0//EN
CALSCALE:GREGORIAN
METHOD:PUBLISH
X-ORIGINAL-URL:https://sgkorok.nadi.my
X-WR-CALDESC:Events for NADI Sg Korok, Padang Kerbau
REFRESH-INTERVAL;VALUE=DURATION:PT1H
X-Robots-Tag:noindex
X-PUBLISHED-TTL:PT1H
BEGIN:VTIMEZONE
TZID:Asia/Kuala_Lumpur
BEGIN:STANDARD
TZOFFSETFROM:+0800
TZOFFSETTO:+0800
TZNAME:+08
DTSTART:20250101T000000
END:STANDARD
END:VTIMEZONE
BEGIN:VEVENT
DTSTART;TZID=Asia/Kuala_Lumpur:20260102T080000
DTEND;TZID=Asia/Kuala_Lumpur:20260102T170000
DTSTAMP:20260420T034421
CREATED:20260106T071255Z
LAST-MODIFIED:20260106T071255Z
UID:6462-1767340800-1767373200@sgkorok.nadi.my
SUMMARY:BILA TEST KIT DUA GARIS – KEHAMILAN REMAJA DARI SUDUT PAKAR O&G | W112
DESCRIPTION:
URL:https://sgkorok.nadi.my/event/bila-test-kit-dua-garis-kehamilan-remaja-dari-sudut-pakar-og-w112/
END:VEVENT
BEGIN:VEVENT
DTSTART;TZID=Asia/Kuala_Lumpur:20260103T080000
DTEND;TZID=Asia/Kuala_Lumpur:20260103T170000
DTSTAMP:20260420T034421
CREATED:20260106T071409Z
LAST-MODIFIED:20260106T071409Z
UID:6464-1767427200-1767459600@sgkorok.nadi.my
SUMMARY:WEBINAR BERKALA SAINS (EDISI 1) - SESUAI UNTUK TINGKATAN 1 HINGGA TINGKATAN 3 .
DESCRIPTION:
URL:https://sgkorok.nadi.my/event/webinar-berkala-sains-edisi-1-sesuai-untuk-tingkatan-1-hingga-tingkatan-3/
END:VEVENT
BEGIN:VEVENT
DTSTART;TZID=Asia/Kuala_Lumpur:20260103T080000
DTEND;TZID=Asia/Kuala_Lumpur:20260103T170000
DTSTAMP:20260420T034421
CREATED:20260106T074936Z
LAST-MODIFIED:20260106T074936Z
UID:6466-1767427200-1767459600@sgkorok.nadi.my
SUMMARY:MOVE SQUAD EP4  | REACTION TIME CHALLENGE – SIAPA PALING PANTAS?  | E070
DESCRIPTION:
URL:https://sgkorok.nadi.my/event/move-squad-ep4-reaction-time-challenge-siapa-paling-pantas-e070/
END:VEVENT
BEGIN:VEVENT
DTSTART;TZID=Asia/Kuala_Lumpur:20260104T140000
DTEND;TZID=Asia/Kuala_Lumpur:20260104T150000
DTSTAMP:20260420T034421
CREATED:20260106T075058Z
LAST-MODIFIED:20260106T075058Z
UID:6468-1767535200-1767538800@sgkorok.nadi.my
SUMMARY:VOD SESI 22
DESCRIPTION:
URL:https://sgkorok.nadi.my/event/vod-sesi-22/
END:VEVENT
BEGIN:VEVENT
DTSTART;TZID=Asia/Kuala_Lumpur:20260104T153000
DTEND;TZID=Asia/Kuala_Lumpur:20260104T163000
DTSTAMP:20260420T034421
CREATED:20260106T075126Z
LAST-MODIFIED:20260106T075126Z
UID:6470-1767540600-1767544200@sgkorok.nadi.my
SUMMARY:GUIDANCE TUITION TING 4 : MATEMATIK
DESCRIPTION:
URL:https://sgkorok.nadi.my/event/guidance-tuition-ting-4-matematik/
END:VEVENT
BEGIN:VEVENT
DTSTART;TZID=Asia/Kuala_Lumpur:20260106T153000
DTEND;TZID=Asia/Kuala_Lumpur:20260106T163000
DTSTAMP:20260420T034421
CREATED:20260106T075205Z
LAST-MODIFIED:20260106T075205Z
UID:6472-1767713400-1767717000@sgkorok.nadi.my
SUMMARY:GUIDANCE TUITION TING 4 : SEJARAH
DESCRIPTION:
URL:https://sgkorok.nadi.my/event/guidance-tuition-ting-4-sejarah/
END:VEVENT
BEGIN:VEVENT
DTSTART;TZID=Asia/Kuala_Lumpur:20260106T153000
DTEND;TZID=Asia/Kuala_Lumpur:20260106T163000
DTSTAMP:20260420T034421
CREATED:20260106T075511Z
LAST-MODIFIED:20260106T075511Z
UID:6474-1767713400-1767717000@sgkorok.nadi.my
SUMMARY:OPEN TUITION : BI
DESCRIPTION:
URL:https://sgkorok.nadi.my/event/open-tuition-bi-2/
END:VEVENT
BEGIN:VEVENT
DTSTART;TZID=Asia/Kuala_Lumpur:20260108T100000
DTEND;TZID=Asia/Kuala_Lumpur:20260108T113000
DTSTAMP:20260420T034421
CREATED:20260106T075642Z
LAST-MODIFIED:20260106T075642Z
UID:6476-1767866400-1767871800@sgkorok.nadi.my
SUMMARY:FORUM MAHIR BERSAMA KOMUNITI
DESCRIPTION:
URL:https://sgkorok.nadi.my/event/forum-mahir-bersama-komuniti/
END:VEVENT
BEGIN:VEVENT
DTSTART;TZID=Asia/Kuala_Lumpur:20260108T150000
DTEND;TZID=Asia/Kuala_Lumpur:20260108T163000
DTSTAMP:20260420T034421
CREATED:20260106T075844Z
LAST-MODIFIED:20260106T075844Z
UID:6480-1767884400-1767889800@sgkorok.nadi.my
SUMMARY:OPEN TUITION: BM
DESCRIPTION:
URL:https://sgkorok.nadi.my/event/open-tuition-bm-4/
END:VEVENT
BEGIN:VEVENT
DTSTART;TZID=Asia/Kuala_Lumpur:20260108T153000
DTEND;TZID=Asia/Kuala_Lumpur:20260108T163000
DTSTAMP:20260420T034421
CREATED:20260106T075818Z
LAST-MODIFIED:20260106T075818Z
UID:6478-1767886200-1767889800@sgkorok.nadi.my
SUMMARY:GUIDANCE TUITION TING 4: BAHASA INGGERIS
DESCRIPTION:
URL:https://sgkorok.nadi.my/event/guidance-tuition-ting-4-bahasa-inggeris/
END:VEVENT
BEGIN:VEVENT
DTSTART;TZID=Asia/Kuala_Lumpur:20260109T143000
DTEND;TZID=Asia/Kuala_Lumpur:20260109T153000
DTSTAMP:20260420T034421
CREATED:20260106T075927Z
LAST-MODIFIED:20260106T075927Z
UID:6482-1767969000-1767972600@sgkorok.nadi.my
SUMMARY:GUIDANCE TUITION TING 5: BM
DESCRIPTION:
URL:https://sgkorok.nadi.my/event/guidance-tuition-ting-5-bm/
END:VEVENT
BEGIN:VEVENT
DTSTART;TZID=Asia/Kuala_Lumpur:20260109T160000
DTEND;TZID=Asia/Kuala_Lumpur:20260109T170000
DTSTAMP:20260420T034421
CREATED:20260106T075957Z
LAST-MODIFIED:20260106T075957Z
UID:6484-1767974400-1767978000@sgkorok.nadi.my
SUMMARY:GUIDANCE TUITION TING 5: BI
DESCRIPTION:
URL:https://sgkorok.nadi.my/event/guidance-tuition-ting-5-bi/
END:VEVENT
BEGIN:VEVENT
DTSTART;TZID=Asia/Kuala_Lumpur:20260110T140000
DTEND;TZID=Asia/Kuala_Lumpur:20260110T150000
DTSTAMP:20260420T034421
CREATED:20260106T080206Z
LAST-MODIFIED:20260106T080206Z
UID:6488-1768053600-1768057200@sgkorok.nadi.my
SUMMARY:GUIDANCE TUITION TING 5: SEJARAH
DESCRIPTION:
URL:https://sgkorok.nadi.my/event/guidance-tuition-ting-5-sejarah/
END:VEVENT
BEGIN:VEVENT
DTSTART;TZID=Asia/Kuala_Lumpur:20260110T143000
DTEND;TZID=Asia/Kuala_Lumpur:20260110T153000
DTSTAMP:20260420T034421
CREATED:20260106T080050Z
LAST-MODIFIED:20260106T080050Z
UID:6486-1768055400-1768059000@sgkorok.nadi.my
SUMMARY:WEBINAR BERKALA SAINS – EDISI 2
DESCRIPTION:
URL:https://sgkorok.nadi.my/event/webinar-berkala-sains-edisi-2/
END:VEVENT
BEGIN:VEVENT
DTSTART;TZID=Asia/Kuala_Lumpur:20260110T153000
DTEND;TZID=Asia/Kuala_Lumpur:20260110T163000
DTSTAMP:20260420T034421
CREATED:20260106T080234Z
LAST-MODIFIED:20260106T080234Z
UID:6490-1768059000-1768062600@sgkorok.nadi.my
SUMMARY:GUIDANCE TUITION TING 5: MATEMATIK
DESCRIPTION:
URL:https://sgkorok.nadi.my/event/guidance-tuition-ting-5-matematik/
END:VEVENT
BEGIN:VEVENT
DTSTART;TZID=Asia/Kuala_Lumpur:20260111T150000
DTEND;TZID=Asia/Kuala_Lumpur:20260111T160000
DTSTAMP:20260420T034421
CREATED:20260106T080254Z
LAST-MODIFIED:20260106T080254Z
UID:6492-1768143600-1768147200@sgkorok.nadi.my
SUMMARY:ENGLISH PROFICIENCY LESSON 22
DESCRIPTION:
URL:https://sgkorok.nadi.my/event/english-proficiency-lesson-22/
END:VEVENT
BEGIN:VEVENT
DTSTART;TZID=Asia/Kuala_Lumpur:20260112T150000
DTEND;TZID=Asia/Kuala_Lumpur:20260112T160000
DTSTAMP:20260420T034421
CREATED:20260106T080359Z
LAST-MODIFIED:20260106T080359Z
UID:6496-1768230000-1768233600@sgkorok.nadi.my
SUMMARY:VOD SESI 24
DESCRIPTION:
URL:https://sgkorok.nadi.my/event/vod-sesi-24/
END:VEVENT
BEGIN:VEVENT
DTSTART;TZID=Asia/Kuala_Lumpur:20260112T153000
DTEND;TZID=Asia/Kuala_Lumpur:20260112T163000
DTSTAMP:20260420T034421
CREATED:20260106T080335Z
LAST-MODIFIED:20260106T080335Z
UID:6494-1768231800-1768235400@sgkorok.nadi.my
SUMMARY:OPEN TUITION: SEJARAH
DESCRIPTION:
URL:https://sgkorok.nadi.my/event/open-tuition-sejarah-5/
END:VEVENT
BEGIN:VEVENT
DTSTART;TZID=Asia/Kuala_Lumpur:20260115T093000
DTEND;TZID=Asia/Kuala_Lumpur:20260115T230000
DTSTAMP:20260420T034421
CREATED:20260106T081324Z
LAST-MODIFIED:20260106T081324Z
UID:6498-1768469400-1768518000@sgkorok.nadi.my
SUMMARY:MAHIR AGRI PINTAR
DESCRIPTION:
URL:https://sgkorok.nadi.my/event/mahir-agri-pintar/
END:VEVENT
BEGIN:VEVENT
DTSTART;TZID=Asia/Kuala_Lumpur:20260115T150000
DTEND;TZID=Asia/Kuala_Lumpur:20260115T163000
DTSTAMP:20260420T034421
CREATED:20260106T081411Z
LAST-MODIFIED:20260106T081411Z
UID:6500-1768489200-1768494600@sgkorok.nadi.my
SUMMARY:ANCAMAN SIBER DALAM DUNIA DIGITAL
DESCRIPTION:
URL:https://sgkorok.nadi.my/event/ancaman-siber-dalam-dunia-digital/
END:VEVENT
BEGIN:VEVENT
DTSTART;TZID=Asia/Kuala_Lumpur:20260115T150000
DTEND;TZID=Asia/Kuala_Lumpur:20260115T163000
DTSTAMP:20260420T034421
CREATED:20260107T011526Z
LAST-MODIFIED:20260107T011526Z
UID:6506-1768489200-1768494600@sgkorok.nadi.my
SUMMARY:MAHIR FOTO
DESCRIPTION:
URL:https://sgkorok.nadi.my/event/mahir-foto/
END:VEVENT
BEGIN:VEVENT
DTSTART;TZID=Asia/Kuala_Lumpur:20260115T160000
DTEND;TZID=Asia/Kuala_Lumpur:20260115T163000
DTSTAMP:20260420T034421
CREATED:20260106T081456Z
LAST-MODIFIED:20260106T081456Z
UID:6502-1768492800-1768494600@sgkorok.nadi.my
SUMMARY:OPEN TUITION: SAINS
DESCRIPTION:
URL:https://sgkorok.nadi.my/event/open-tuition-sains-6/
END:VEVENT
BEGIN:VEVENT
DTSTART;TZID=Asia/Kuala_Lumpur:20260119T150000
DTEND;TZID=Asia/Kuala_Lumpur:20260119T160000
DTSTAMP:20260420T034421
CREATED:20260107T011920Z
LAST-MODIFIED:20260107T011920Z
UID:6510-1768834800-1768838400@sgkorok.nadi.my
SUMMARY:VOD SESI 25
DESCRIPTION:
URL:https://sgkorok.nadi.my/event/vod-sesi-25/
END:VEVENT
BEGIN:VEVENT
DTSTART;TZID=Asia/Kuala_Lumpur:20260119T153000
DTEND;TZID=Asia/Kuala_Lumpur:20260119T163000
DTSTAMP:20260420T034421
CREATED:20260107T011840Z
LAST-MODIFIED:20260107T011840Z
UID:6508-1768836600-1768840200@sgkorok.nadi.my
SUMMARY:OPEN TUITION : MATEMATIK
DESCRIPTION:
URL:https://sgkorok.nadi.my/event/open-tuition-matematik-4/
END:VEVENT
BEGIN:VEVENT
DTSTART;TZID=Asia/Kuala_Lumpur:20260120T033000
DTEND;TZID=Asia/Kuala_Lumpur:20260120T163000
DTSTAMP:20260420T034421
CREATED:20260107T012014Z
LAST-MODIFIED:20260107T012014Z
UID:6512-1768879800-1768926600@sgkorok.nadi.my
SUMMARY:OPEN TUITION: BI
DESCRIPTION:
URL:https://sgkorok.nadi.my/event/open-tuition-bi-3/
END:VEVENT
BEGIN:VEVENT
DTSTART;TZID=Asia/Kuala_Lumpur:20260122T093000
DTEND;TZID=Asia/Kuala_Lumpur:20260122T233000
DTSTAMP:20260420T034421
CREATED:20260107T012121Z
LAST-MODIFIED:20260107T012121Z
UID:6514-1769074200-1769124600@sgkorok.nadi.my
SUMMARY:MAHIR AGRI PINTAR
DESCRIPTION:
URL:https://sgkorok.nadi.my/event/mahir-agri-pintar-2/
END:VEVENT
BEGIN:VEVENT
DTSTART;TZID=Asia/Kuala_Lumpur:20260122T150000
DTEND;TZID=Asia/Kuala_Lumpur:20260122T163000
DTSTAMP:20260420T034421
CREATED:20260107T012508Z
LAST-MODIFIED:20260107T012508Z
UID:6518-1769094000-1769099400@sgkorok.nadi.my
SUMMARY:MAHIR FOTO
DESCRIPTION:
URL:https://sgkorok.nadi.my/event/mahir-foto-2/
END:VEVENT
BEGIN:VEVENT
DTSTART;TZID=Asia/Kuala_Lumpur:20260122T153000
DTEND;TZID=Asia/Kuala_Lumpur:20260122T163000
DTSTAMP:20260420T034421
CREATED:20260107T012205Z
LAST-MODIFIED:20260107T012205Z
UID:6516-1769095800-1769099400@sgkorok.nadi.my
SUMMARY:OPEN TUITION: BM
DESCRIPTION:
URL:https://sgkorok.nadi.my/event/open-tuition-bm-5/
END:VEVENT
BEGIN:VEVENT
DTSTART;TZID=Asia/Kuala_Lumpur:20260125T150000
DTEND;TZID=Asia/Kuala_Lumpur:20260125T163000
DTSTAMP:20260420T034421
CREATED:20260107T012708Z
LAST-MODIFIED:20260107T012708Z
UID:6520-1769353200-1769358600@sgkorok.nadi.my
SUMMARY:ENGLISH PROFICIENCY LESSON 23
DESCRIPTION:
URL:https://sgkorok.nadi.my/event/english-proficiency-lesson-23/
END:VEVENT
BEGIN:VEVENT
DTSTART;TZID=Asia/Kuala_Lumpur:20260126T153000
DTEND;TZID=Asia/Kuala_Lumpur:20260126T163000
DTSTAMP:20260420T034421
CREATED:20260107T012741Z
LAST-MODIFIED:20260107T012741Z
UID:6522-1769441400-1769445000@sgkorok.nadi.my
SUMMARY:OPEN TUITION : SEJARAH
DESCRIPTION:
URL:https://sgkorok.nadi.my/event/open-tuition-sejarah-6/
END:VEVENT
END:VCALENDAR